BEGIN:VCALENDAR
PRODID:-//Amazone Events Calendar//iCal4j 1.0//EN
VERSION:2.0
CALSCALE:GREGORIAN
BEGIN:VEVENT
DTSTAMP:20260424T003633Z
DTSTART:20260715T220000
DTEND:20260716T220000
SUMMARY:Казахстанский День поля «Jańa Dala / Green Day 2026»\, АО «Агрофи
 рма «Актык».
UID:b953dbc0-6a34-428a-af09-01859371bc34
LOCATION:село Нуресиль\, Целиноградский район\, Акмолинская область 
COUNTRY:Казахстанский
END:VEVENT
END:VCALENDAR
