BEGIN:VCALENDAR
PRODID:-//Amazone Events Calendar//iCal4j 1.0//EN
VERSION:2.0
CALSCALE:GREGORIAN
BEGIN:VEVENT
DTSTAMP:20260424T003315Z
DTSTART:20261020T220000
DTEND:20261022T220000
SUMMARY:Международная выставка «KazAgroFarm 2026»
UID:82bd0b21-52e7-473f-a8e0-6c86bbf5717d
LOCATION:г. Астана
COUNTRY:Казахстанский
END:VEVENT
END:VCALENDAR
