BEGIN:VCALENDAR
PRODID:-//Amazone Events Calendar//iCal4j 1.0//EN
VERSION:2.0
CALSCALE:GREGORIAN
BEGIN:VEVENT
DTSTAMP:20260424T003315Z
DTSTART:20261027T230000
DTEND:20261029T230000
SUMMARY:Международная выставка «AgroWorld Qazaqstan 2026» 
UID:41f2d8aa-7b30-4d2f-a8b5-c3a133e9d698
LOCATION:г. Алматы\, ул. Тимирязева\, 42\, КЦДС «Атакент»\, павильон 10 
COUNTRY:Казахстанский
END:VEVENT
END:VCALENDAR
