BEGIN:VCALENDAR
PRODID:-//Amazone Events Calendar//iCal4j 1.0//EN
VERSION:2.0
CALSCALE:GREGORIAN
BEGIN:VEVENT
DTSTAMP:20260424T015813Z
DTSTART:20260521T080000
DTEND:20260521T200000
SUMMARY:AMATECHNICA
UID:8086c88b-3a56-4c64-9484-b0d81937385d
LOCATION:Gaste
COUNTRY:Germany
END:VEVENT
END:VCALENDAR
