BEGIN:VCALENDAR
PRODID:-//Amazone Events Calendar//iCal4j 1.0//EN
VERSION:2.0
CALSCALE:GREGORIAN
BEGIN:VEVENT
DTSTAMP:20260421T081057Z
DTSTART:20260915T220000
DTEND:20260918T220000
SUMMARY:AgroTechniek Holland
UID:f0908928-b89a-449d-8bab-bee5c73c2bc5
LOCATION:Biddinghuizen
COUNTRY:Netherlands
END:VEVENT
END:VCALENDAR
