BEGIN:VCALENDAR
PRODID:-//Amazone Events Calendar//iCal4j 1.0//EN
VERSION:2.0
CALSCALE:GREGORIAN
BEGIN:VEVENT
DTSTAMP:20260423T212622Z
DTSTART:20260909T220000
DTEND:20260912T220000
SUMMARY:Mela
UID:6fb042c4-a2d9-4cfc-9c48-b15847eec996
LOCATION:Mühlengeez
COUNTRY:Germany
END:VEVENT
END:VCALENDAR
